BEGIN:VCALENDAR
VERSION:2.0
CALSCALE:GREGORIAN
PRODID:adamgibbons/ics
METHOD:PUBLISH
X-PUBLISHED-TTL:PT1H
BEGIN:VEVENT
UID:216@botep.org
SUMMARY:Pranzo del Primo Maggio
DTSTAMP:20260421T193442Z
DTSTART:20260501T103000Z
URL:https://botep.org/event/pranzo-del-primo-maggio
GEO:45.6848;9.67497
LOCATION:Circolino della Malpensata - Via Luigi Luzzatti 6b\, Bergamo
STATUS:CONFIRMED
CATEGORIES:concerto,mostra fotografica,pranzo sociale,primo maggio
END:VEVENT
END:VCALENDAR
